BEGIN:VCALENDAR
VERSION:2.0
PRODID:-//Tukios.com/
BEGIN:VEVENT
UID:3178ab34-7222-4861-b43f-8d76c25c9ef9@www.pepperfuneralhomes.com
DTSTAMP:20260423T044022Z
DTSTART:20260428T140000Z
DTEND:20260428T160000Z
SUMMARY:Visitation
DESCRIPTION:
URL:https://www.pepperfuneralhomes.com/obituaries/richard-dick-jenkins
LOCATION:Open Arms Ministry 3393 Leona Rd  Troy PA 16947
GEO:41.8171401;-76.7413521
END:VEVENT
END:VCALENDAR