BEGIN:VCALENDAR
VERSION:2.0
PRODID:-//Tukios.com/
BEGIN:VEVENT
UID:9f4693e2-3d03-49a3-b8ba-2f2a62a1e433@www.pepperfuneralhomes.com
DTSTAMP:20260423T043836Z
DTSTART:20260428T160000Z
DTEND:20260428T170000Z
SUMMARY:Funeral Service
DESCRIPTION:
URL:https://www.pepperfuneralhomes.com/obituaries/richard-dick-jenkins
LOCATION: 3393 Leona Rd  Troy PA 16947
GEO:41.8171401;-76.7413521
END:VEVENT
END:VCALENDAR